BEGIN:VCALENDAR
VERSION:2.0
PRODID:-//Merrimack College - ECPv6.15.17.1//NONSGML v1.0//EN
CALSCALE:GREGORIAN
METHOD:PUBLISH
X-WR-CALNAME:Merrimack College
X-ORIGINAL-URL:https://www.merrimack.edu
X-WR-CALDESC:Events for Merrimack College
REFRESH-INTERVAL;VALUE=DURATION:PT1H
X-Robots-Tag:noindex
X-PUBLISHED-TTL:PT1H
BEGIN:VTIMEZONE
TZID:America/New_York
BEGIN:DAYLIGHT
TZOFFSETFROM:-0500
TZOFFSETTO:-0400
TZNAME:EDT
DTSTART:20250309T070000
END:DAYLIGHT
BEGIN:STANDARD
TZOFFSETFROM:-0400
TZOFFSETTO:-0500
TZNAME:EST
DTSTART:20251102T060000
END:STANDARD
BEGIN:DAYLIGHT
TZOFFSETFROM:-0500
TZOFFSETTO:-0400
TZNAME:EDT
DTSTART:20260308T070000
END:DAYLIGHT
BEGIN:STANDARD
TZOFFSETFROM:-0400
TZOFFSETTO:-0500
TZNAME:EST
DTSTART:20261101T060000
END:STANDARD
BEGIN:DAYLIGHT
TZOFFSETFROM:-0500
TZOFFSETTO:-0400
TZNAME:EDT
DTSTART:20270314T070000
END:DAYLIGHT
BEGIN:STANDARD
TZOFFSETFROM:-0400
TZOFFSETTO:-0500
TZNAME:EST
DTSTART:20271107T060000
END:STANDARD
END:VTIMEZONE
BEGIN:VEVENT
DTSTART;TZID=America/New_York:20260422T120000
DTEND;TZID=America/New_York:20260422T130000
DTSTAMP:20260422T030103
CREATED:20260320T131611Z
LAST-MODIFIED:20260320T144943Z
UID:10001275-1776859200-1776862800@www.merrimack.edu
SUMMARY:Lunch & Learn Series: Andrew Cannon and Daniel Herda
DESCRIPTION:Wednesday\, April 22\, 2026 | 12-1 p.m. | Arcidi Boardroom\nJoin our ORSP Lunch & Learn series\, consisting of two 15-minute talks from faculty members in very different fields\, followed by a question-and-answer session and discussion. This session features Andrew Cannon co-presenting with his graduate fellow\, Joe Berry\, “Clinical inquiry: Tape Measure and Goniometer to Single Phone Marker-less Motion Capture” and Dr. Daniel Herda presenting “Adapting to Hostility: How Immigrants Navigate Adverse Contexts of Reception.” \nRegistration is not required.
URL:https://www.merrimack.edu/event/lunch-learn-series-andrew-cannon-and-dan-herda/
LOCATION:Arcidi Boardroom\, Arcidi Hall\, 315 Turnpike St.\, North Andover\, 01845\, United States
CATEGORIES:Lecture, Reading, Talk
ATTACH;FMTTYPE=image/jpeg:https://www.merrimack.edu/wp-content/uploads/22437_arcidi1.rev_.1616693092.jpg
END:VEVENT
END:VCALENDAR